BEGIN:VCALENDAR
VERSION:2.0
PRODID:-//wp-events-plugin.com//7.2.3.1//EN
TZID:America/Chicago
X-WR-TIMEZONE:America/Chicago
BEGIN:VEVENT
UID:235@nei3a.org
DTSTART;TZID=America/Chicago:20240820T100000
DTEND;TZID=America/Chicago:20240820T110000
DTSTAMP:20240806T165236Z
URL:https://nei3a.org/events/become-a-dementia-friend-2/
SUMMARY:Become a Dementia Friend - Waterloo
DESCRIPTION:You can become a Dementia Friend by attending a one-hour inform
 ational session to learn about living with dementia and the simple things 
 you can do to support someone living with dementia.\n\nWhat Happens at the
  Information Session? This one-hour session is led by a Dementia Friends 
 Champion. You’ll learn some basics of dementia such as what dementia is\
 , how it can affect a person\, some tips for communicating with people who
  have dementia\, and other ways to support people with dementia.\n\nQuesti
 ons? Contact Megan Zimmerman: mzimmerman@nei3a.org or 319-287-1182
ATTACH;FMTTYPE=image/jpeg:https://nei3a.org/wp-content/uploads/Become-a-De
 mentia-Friend-4.25-x-4-in-4.25-x-3-in.png
CATEGORIES:DF Purple
LOCATION:First Presbyterian Church\, 902 Main Street\, Cedar Falls\, Iowa\,
  50613\, United States
X-APPLE-STRUCTURED-LOCATION;VALUE=URI;X-ADDRESS=902 Main Street\, Cedar Fal
 ls\, Iowa\, 50613\, United States;X-APPLE-RADIUS=100;X-TITLE=First Presbyt
 erian Church:geo:0,0
END:VEVENT
BEGIN:VTIMEZONE
TZID:America/Chicago
X-LIC-LOCATION:America/Chicago
BEGIN:DAYLIGHT
DTSTART:20240310T030000
TZOFFSETFROM:-0600
TZOFFSETTO:-0500
TZNAME:CDT
END:DAYLIGHT
END:VTIMEZONE
END:VCALENDAR