BEGIN:VCALENDAR
VERSION:2.0
PRODID:-//wp-events-plugin.com//7.2.3.1//EN
TZID:America/Chicago
X-WR-TIMEZONE:America/Chicago
BEGIN:VEVENT
UID:279@nei3a.org
DTSTART;TZID=America/Chicago:20250130T090000
DTEND;TZID=America/Chicago:20250130T143000
DTSTAMP:20250103T160929Z
URL:https://nei3a.org/events/healthy-steps-for-older-adults-sumner/
SUMMARY:Healthy Steps for Older Adults - Sumner
DESCRIPTION:HSOA is an evidence-based fall risk screening and education cla
 ss for adults aged 50 and over focusing on fall prevention\, covering topi
 cs such as proper footwear\, safety at home\, good nutrition for bone heal
 th\, and the importance of exercise. Participants will also learn at-home 
 exercises to improve strength and balance.\n\nBy participating in the Heal
 thy Steps for Older Adults program\, you can equip yourself with the knowl
 edge and skills to lead a full and active life\, free from the fear of fal
 ling. The class is scheduled for Thursday\, January 30\, from 9:00 a.m. to
  2:30 p.m. at the Community Memorial Hospital\, 909 W. 1st Street in Sumne
 r. Lunch will be provided\, and each participant will receive a comprehens
 ive program handbook filled with valuable information. The classes are ava
 ilable with a suggested voluntary contribution of $25. Scholarships are av
 ailable for those who request financial assistance. To secure your spot\, 
 please contact Missy Anders at 319-874-6893 or email manders@nei3a.org.
ATTACH;FMTTYPE=image/jpeg:https://nei3a.org/wp-content/uploads/AdobeStock_
 557320560-1-scaled.jpeg
CATEGORIES:Teal
LOCATION:Community Memorial Hospital\, 909 W. 1st Street\, Sumner\, Iowa\, 
 50674\, United States
X-APPLE-STRUCTURED-LOCATION;VALUE=URI;X-ADDRESS=909 W. 1st Street\, Sumner\
 , Iowa\, 50674\, United States;X-APPLE-RADIUS=100;X-TITLE=Community Memori
 al Hospital:geo:0,0
END:VEVENT
BEGIN:VTIMEZONE
TZID:America/Chicago
X-LIC-LOCATION:America/Chicago
BEGIN:STANDARD
DTSTART:20241103T010000
TZOFFSETFROM:-0500
TZOFFSETTO:-0600
TZNAME:CST
END:STANDARD
END:VTIMEZONE
END:VCALENDAR